BEGIN:VCALENDAR
VERSION:2.0
PRODID: -//Q4 Inc.//EN
METHOD:PUBLISH
BEGIN:VTIMEZONE
TZID:America/New_York
X-LIC-LOCATION:America/New_York
BEGIN:DAYLIGHT
TZOFFSETFROM:-0500
TZOFFSETTO:-0400
TZNAME:EDT
DTSTART:19700308T020000
RRULE:FREQ=YEARLY;BYMONTH=3;BYDAY=2SU
END:DAYLIGHT
BEGIN:STANDARD
TZOFFSETFROM:-0400
TZOFFSETTO:-0500
TZNAME:EST
DTSTART:19701101T020000
RRULE:FREQ=YEARLY;BYMONTH=11;BYDAY=1SU
END:STANDARD
END:VTIMEZONE
BEGIN:VEVENT
ORGANIZER:MAILTO:Investor_Relations@DTEEnergy.com
DTSTART;TZID="America/New_York":20220111T000000
DTEND;TZID="America/New_York":20220111T000000
LOCATION:
UID:8d50d77c-3101-4d7c-9d81-5e145c5c2a67
DTSTAMP:20260424T183158
SUMMARY:Business Update January 11, 2022
DESCRIPTION: View More Information: https://ir.dteenergy.com/webcast-and-presentations/event-details/2022/Business-Update-January-11-2022/default.aspx
URL;VALUE=URI:https://ir.dteenergy.com/webcast-and-presentations/event-details/2022/Business-Update-January-11-2022/default.aspx
PRIORITY:5
CLASS:PUBLIC
END:VEVENT
END:VCALENDAR
