BEGIN:VCALENDAR
VERSION:2.0
PRODID: -//Q4 Inc.//EN
METHOD:PUBLISH
BEGIN:VTIMEZONE
TZID:America/New_York
X-LIC-LOCATION:America/New_York
BEGIN:DAYLIGHT
TZOFFSETFROM:-0500
TZOFFSETTO:-0400
TZNAME:EDT
DTSTART:19700308T020000
RRULE:FREQ=YEARLY;BYMONTH=3;BYDAY=2SU
END:DAYLIGHT
BEGIN:STANDARD
TZOFFSETFROM:-0400
TZOFFSETTO:-0500
TZNAME:EST
DTSTART:19701101T020000
RRULE:FREQ=YEARLY;BYMONTH=11;BYDAY=1SU
END:STANDARD
END:VTIMEZONE
BEGIN:VEVENT
ORGANIZER:MAILTO:Investor_Relations@DTEEnergy.com
DTSTART;TZID="America/New_York":20201027T090000
DTEND;TZID="America/New_York":20201027T103000
LOCATION:
UID:85b66de0-93b9-438f-abef-1d902093ab57
DTSTAMP:20260424T165727
SUMMARY:Q3 2020 DTE Energy Company Earnings Conference Call
DESCRIPTION: View More Information: https://ir.dteenergy.com/webcast-and-presentations/event-details/2020/Q3-2020-DTE-Energy-Company-Earnings-Conference-Call-/default.aspx
URL;VALUE=URI:https://ir.dteenergy.com/webcast-and-presentations/event-details/2020/Q3-2020-DTE-Energy-Company-Earnings-Conference-Call-/default.aspx
PRIORITY:5
CLASS:PUBLIC
END:VEVENT
END:VCALENDAR
