BEGIN:VCALENDAR
VERSION:2.0
PRODID: -//Q4 Inc.//EN
METHOD:PUBLISH
BEGIN:VTIMEZONE
TZID:America/New_York
X-LIC-LOCATION:America/New_York
BEGIN:DAYLIGHT
TZOFFSETFROM:-0500
TZOFFSETTO:-0400
TZNAME:EDT
DTSTART:19700308T020000
RRULE:FREQ=YEARLY;BYMONTH=3;BYDAY=2SU
END:DAYLIGHT
BEGIN:STANDARD
TZOFFSETFROM:-0400
TZOFFSETTO:-0500
TZNAME:EST
DTSTART:19701101T020000
RRULE:FREQ=YEARLY;BYMONTH=11;BYDAY=1SU
END:STANDARD
END:VTIMEZONE
BEGIN:VEVENT
ORGANIZER:MAILTO:Investor_Relations@DTEEnergy.com
DTSTART;TZID="America/New_York":20200728T090000
DTEND;TZID="America/New_York":20200728T100000
LOCATION:
UID:701c7b4f-7446-4da0-b346-1c3aaf11876e
DTSTAMP:20260424T183330
SUMMARY:Q2 2020 DTE Energy Company Earnings Conference Call
DESCRIPTION: View More Information: https://ir.dteenergy.com/webcast-and-presentations/event-details/2020/Q2-2020-DTE-Energy-Company-Earnings-Conference-Call-/default.aspx
URL;VALUE=URI:https://ir.dteenergy.com/webcast-and-presentations/event-details/2020/Q2-2020-DTE-Energy-Company-Earnings-Conference-Call-/default.aspx
PRIORITY:5
CLASS:PUBLIC
END:VEVENT
END:VCALENDAR
